BEGIN:VCALENDAR
VERSION:2.0
PRODID:-//Tukios.com/
BEGIN:VEVENT
UID:2af733b4-d5e3-4056-a53d-657919e5afa0@www.heinzfh.com
DTSTAMP:20260423T193939Z
DTSTART:20260709T180000Z
DTEND:20260709T190000Z
SUMMARY:Interment
DESCRIPTION:
URL:https://www.heinzfh.com/obituaries/ronald-resare
LOCATION: 6502 SW 102nd Ave  Bushnell FL 33513
GEO:28.6080099;-82.2095562
END:VEVENT
END:VCALENDAR