BEGIN:VCALENDAR
VERSION:2.0
PRODID:-//Tukios.com/
BEGIN:VEVENT
UID:ad6bdc64-c0e2-458d-bf5f-3e8f1af85053@www.heinzfh.com
DTSTAMP:20260423T193811Z
DTSTART:20260709T160000Z
DTEND:20260709T170000Z
SUMMARY:Funeral Service
DESCRIPTION:
URL:https://www.heinzfh.com/obituaries/ronald-resare
LOCATION: 114 N Osceola Ave  Inverness FL 34450
GEO:28.8377124;-82.3337016
END:VEVENT
END:VCALENDAR