BEGIN:VCALENDAR
VERSION:2.0
PRODID:-//Tukios.com/
BEGIN:VEVENT
UID:fd73281c-e345-4f27-8de7-589e797b6650@www.heinzfh.com
DTSTAMP:20260424T175844Z
DTSTART:20260501T173000Z
DTEND:20260501T183000Z
SUMMARY:Burial
DESCRIPTION:
URL:https://www.heinzfh.com/obituaries/fran-wein
LOCATION: 6502 SW 102nd Avenue  Bushnell FL 33513
GEO:28.6081552;-82.209369
END:VEVENT
END:VCALENDAR