BEGIN:VCALENDAR
VERSION:2.0
PRODID:-//Tukios.com/
BEGIN:VEVENT
UID:54b1368f-6e03-4512-a53e-85eb6283311e@www.heinzfh.com
DTSTAMP:20260424T175141Z
DTSTART:20260501T150000Z
DTEND:20260501T160000Z
SUMMARY:Funeral Service
DESCRIPTION:
URL:https://www.heinzfh.com/obituaries/fran-wein
LOCATION: 6690 E Turner Camp Rd  Inverness FL 34453
GEO:28.8721991;-82.3232935
END:VEVENT
END:VCALENDAR