BEGIN:VCALENDAR
VERSION:2.0
PRODID:-//Tukios.com/
BEGIN:VEVENT
UID:95e5c0a6-6e0f-497b-8c66-f269d1506f1a@www.heinzfh.com
DTSTAMP:20260424T175716Z
DTSTART:20260501T140000Z
DTEND:20260501T150000Z
SUMMARY:Viewing
DESCRIPTION:
URL:https://www.heinzfh.com/obituaries/fran-wein
LOCATION: 6690 E Turner Camp Rd  Inverness FL 34453
GEO:28.8721991;-82.3232935
END:VEVENT
END:VCALENDAR